BEGIN:VCALENDAR
VERSION:2.0
PRODID:icalendar-ruby
CALSCALE:GREGORIAN
METHOD:PUBLISH
BEGIN:VEVENT
DTSTAMP:20260421T100457Z
UID:http://www.realestatecity.com.au/property?property_id=1762303
DTSTART:20260509T120000
DTEND:20260509T123000
CLASS:PUBLIC
CREATED:20260420T133101
DESCRIPTION: 
LAST-MODIFIED:20260421T184455
LOCATION:1 Derwent Court\, GLADSTONE PARK VIC 3043\, Australia
SUMMARY:1 Derwent Court\,  Auction
URL;VALUE=URI:http://www.realestatecity.com.au/property?property_id=1762303
END:VEVENT
END:VCALENDAR
